BEGIN:VCALENDAR
VERSION:2.0
PRODID:-//kyohatsu//JP
CALSCALE:GREGORIAN
BEGIN:VEVENT
DTSTART;VALUE=DATE:20260722
SUMMARY:【楽天ブックス限定先着特典+早期予約特典】With Us (初回仕様限定盤)(撮りおろしクリアポストカード（SUBARU\\, JINTARO\\, AUGURI）+2L版ジャケ写ブロマイド)
DESCRIPTION:XlamV (株)アプリボット
UID:2100014944944@kyohatsu.lb-product.com
END:VEVENT
BEGIN:VEVENT
DTSTART;VALUE=DATE:20260722
SUMMARY:【楽天ブックス限定先着特典+早期予約特典】With Us (初回生産限定盤)(撮りおろしクリアポストカード（SUBARU\\, JINTARO\\, AUGURI）+2L版ジャケ写ブロマイド)
DESCRIPTION:XlamV (株)アプリボット
UID:2100014944937@kyohatsu.lb-product.com
END:VEVENT
END:VCALENDAR
