BEGIN:VCALENDAR
VERSION:2.0
PRODID:-//kyohatsu//JP
CALSCALE:GREGORIAN
BEGIN:VEVENT
DTSTART;VALUE=DATE:20260718
SUMMARY:Stay With Me/Midnight Pretenders【アナログ盤】
DESCRIPTION:Willy Calderon THINK!! RECORDS
UID:4988044138155@kyohatsu.lb-product.com
END:VEVENT
END:VCALENDAR
