BEGIN:VCALENDAR
VERSION:2.0
PRODID:-//kyohatsu//JP
CALSCALE:GREGORIAN
BEGIN:VEVENT
DTSTART;VALUE=DATE:20260701
SUMMARY:GOLDEN☆BEST Whiteberry
DESCRIPTION:Whiteberry (株)ソニー・ミュージックダイレクト
UID:4547366820195@kyohatsu.lb-product.com
END:VEVENT
END:VCALENDAR
