BEGIN:VCALENDAR
VERSION:2.0
PRODID:-//kyohatsu//JP
CALSCALE:GREGORIAN
BEGIN:VEVENT
DTSTART;VALUE=DATE:20260619
SUMMARY:【輸入盤】リチュアルズ・オブ・シェイム
DESCRIPTION:WARNING 
UID:0781676764921@kyohatsu.lb-product.com
END:VEVENT
BEGIN:VEVENT
DTSTART;VALUE=DATE:20260619
SUMMARY:【輸入盤】リチュアルズ・オブ・シェイム（オックスブラッド）（アナログ盤）
DESCRIPTION:WARNING 
UID:0781676764914@kyohatsu.lb-product.com
END:VEVENT
END:VCALENDAR
