BEGIN:VCALENDAR
VERSION:2.0
PRODID:-//kyohatsu//JP
CALSCALE:GREGORIAN
BEGIN:VEVENT
DTSTART;VALUE=DATE:20260527
SUMMARY:【楽天ブックス限定先着特典】「ARIA The CONCERT 2025〜20年に1度の奇跡〜」(通常盤)【Blu-ray】(ポストカード)
DESCRIPTION:Various Artist 松竹音楽出版(株)
UID:2100014823966@kyohatsu.lb-product.com
END:VEVENT
END:VCALENDAR
