BEGIN:VCALENDAR
VERSION:2.0
PRODID:-//kyohatsu//JP
CALSCALE:GREGORIAN
BEGIN:VEVENT
DTSTART;VALUE=DATE:20260528
SUMMARY:ナラク様は田舎でチョロい 1
DESCRIPTION:VaaKo KADOKAWA
UID:9784048117524@kyohatsu.lb-product.com
END:VEVENT
END:VCALENDAR
