BEGIN:VCALENDAR
VERSION:2.0
PRODID:-//kyohatsu//JP
CALSCALE:GREGORIAN
BEGIN:VEVENT
DTSTART;VALUE=DATE:20260624
SUMMARY:【楽天ブックス限定先着特典】Miracle : The First Light (KOTARO ver.)(楽天ブックスオリジナル トレカ（Type-E / ソロ5種ランダム）)
DESCRIPTION:VIBY Rii.MJ
UID:4988064617524@kyohatsu.lb-product.com
END:VEVENT
BEGIN:VEVENT
DTSTART;VALUE=DATE:20260624
SUMMARY:【楽天ブックス限定先着特典】Miracle : The First Light (AKITO ver.)(楽天ブックスオリジナル トレカ（Type-E / ソロ5種ランダム）)
DESCRIPTION:VIBY Rii.MJ
UID:4988064617500@kyohatsu.lb-product.com
END:VEVENT
BEGIN:VEVENT
DTSTART;VALUE=DATE:20260624
SUMMARY:【楽天ブックス限定先着特典】Miracle : The First Light (Photobook ver.)【初回生産限定】(楽天ブックスオリジナル トレカ（Type-E / ソロ5種ランダム）)
DESCRIPTION:VIBY Rii.MJ
UID:4988064617463@kyohatsu.lb-product.com
END:VEVENT
BEGIN:VEVENT
DTSTART;VALUE=DATE:20260624
SUMMARY:【楽天ブックス限定先着特典】Miracle : The First Light (VIBY ver.)(楽天ブックスオリジナル トレカ（Type-E / ソロ5種ランダム）)
DESCRIPTION:VIBY Rii.MJ
UID:4988064617470@kyohatsu.lb-product.com
END:VEVENT
BEGIN:VEVENT
DTSTART;VALUE=DATE:20260624
SUMMARY:【楽天ブックス限定先着特典】Miracle : The First Light (RENKI ver.)(楽天ブックスオリジナル トレカ（Type-E / ソロ5種ランダム）)
DESCRIPTION:VIBY Rii.MJ
UID:4988064617494@kyohatsu.lb-product.com
END:VEVENT
BEGIN:VEVENT
DTSTART;VALUE=DATE:20260624
SUMMARY:【楽天ブックス限定先着特典】Miracle : The First Light (RYOHA ver.)(楽天ブックスオリジナル トレカ（Type-E / ソロ5種ランダム）)
DESCRIPTION:VIBY Rii.MJ
UID:4988064617517@kyohatsu.lb-product.com
END:VEVENT
BEGIN:VEVENT
DTSTART;VALUE=DATE:20260624
SUMMARY:【楽天ブックス限定先着特典】Miracle : The First Light (IO ver.)(楽天ブックスオリジナル トレカ（Type-E / ソロ5種ランダム）)
DESCRIPTION:VIBY Rii.MJ
UID:4988064617487@kyohatsu.lb-product.com
END:VEVENT
END:VCALENDAR
