BEGIN:VCALENDAR
VERSION:2.0
PRODID:-//kyohatsu//JP
CALSCALE:GREGORIAN
BEGIN:VEVENT
DTSTART;VALUE=DATE:20260624
SUMMARY:【先着特典】UNISON SQUARE GARDEN TOUR 2025-2026「うるわしの前の晩」 at TOYOTA ARENA TOKYO 2026.02.10(アクリルキーホルダー)
DESCRIPTION:UNISON SQUARE GARDEN (株)トイズファクトリー
UID:2100014936505@kyohatsu.lb-product.com
END:VEVENT
BEGIN:VEVENT
DTSTART;VALUE=DATE:20260624
SUMMARY:UNISON SQUARE GARDEN TOUR 2025-2026「うるわしの前の晩」 at TOYOTA ARENA TOKYO 2026.02.10
DESCRIPTION:UNISON SQUARE GARDEN (株)トイズファクトリー
UID:4988061183169@kyohatsu.lb-product.com
END:VEVENT
BEGIN:VEVENT
DTSTART;VALUE=DATE:20260624
SUMMARY:UNISON SQUARE GARDEN TOUR 2025-2026「うるわしの前の晩」 at TOYOTA ARENA TOKYO 2026.02.10【Blu-ray】
DESCRIPTION:UNISON SQUARE GARDEN (株)トイズファクトリー
UID:4988061782966@kyohatsu.lb-product.com
END:VEVENT
BEGIN:VEVENT
DTSTART;VALUE=DATE:20260624
SUMMARY:【先着特典】UNISON SQUARE GARDEN TOUR 2025-2026「うるわしの前の晩」 at TOYOTA ARENA TOKYO 2026.02.10【Blu-ray】(アクリルキーホルダー)
DESCRIPTION:UNISON SQUARE GARDEN (株)トイズファクトリー
UID:2100014936499@kyohatsu.lb-product.com
END:VEVENT
END:VCALENDAR
