BEGIN:VCALENDAR
VERSION:2.0
PRODID:-//kyohatsu//JP
CALSCALE:GREGORIAN
BEGIN:VEVENT
DTSTART;VALUE=DATE:20260630
SUMMARY:流れゆく足跡
DESCRIPTION:Tomori エムズレコーズ
UID:4525118203526@kyohatsu.lb-product.com
END:VEVENT
END:VCALENDAR
