BEGIN:VCALENDAR
VERSION:2.0
PRODID:-//kyohatsu//JP
CALSCALE:GREGORIAN
BEGIN:VEVENT
DTSTART;VALUE=DATE:20260701
SUMMARY:GOLDEN☆BEST To Be Continued 〜SINGLES
DESCRIPTION:To Be Continued (株)ソニー・ミュージックダイレクト
UID:4547366820157@kyohatsu.lb-product.com
END:VEVENT
END:VCALENDAR
