BEGIN:VCALENDAR
VERSION:2.0
PRODID:-//kyohatsu//JP
CALSCALE:GREGORIAN
BEGIN:VEVENT
DTSTART;VALUE=DATE:20260701
SUMMARY:Tani Yuuki Live Tour 2025 “Still love... this” FINAL〜はじまりのはじまり〜(初回仕様限定盤)
DESCRIPTION:Tani Yuuki (株)ソニー・ミュージックレーベルズ
UID:4547366802160@kyohatsu.lb-product.com
END:VEVENT
BEGIN:VEVENT
DTSTART;VALUE=DATE:20260701
SUMMARY:Tani Yuuki Live Tour 2025 “Still love... this” FINAL〜はじまりのはじまり〜(初回仕様限定盤)【Blu-ray】
DESCRIPTION:Tani Yuuki (株)ソニー・ミュージックレーベルズ
UID:4547366802153@kyohatsu.lb-product.com
END:VEVENT
BEGIN:VEVENT
DTSTART;VALUE=DATE:20260701
SUMMARY:【楽天ブックス限定先着特典】Tani Yuuki Live Tour 2025 “Still love... this” FINAL〜はじまりのはじまり〜(初回仕様限定盤)(アクリルキーホルダー)
DESCRIPTION:Tani Yuuki (株)ソニー・ミュージックレーベルズ
UID:2100014936697@kyohatsu.lb-product.com
END:VEVENT
BEGIN:VEVENT
DTSTART;VALUE=DATE:20260701
SUMMARY:【楽天ブックス限定先着特典】Tani Yuuki Live Tour 2025 “Still love... this” FINAL〜はじまりのはじまり〜(初回仕様限定盤)【Blu-ray】(アクリルキーホルダー)
DESCRIPTION:Tani Yuuki (株)ソニー・ミュージックレーベルズ
UID:2100014936680@kyohatsu.lb-product.com
END:VEVENT
END:VCALENDAR
