BEGIN:VCALENDAR
VERSION:2.0
PRODID:-//kyohatsu//JP
CALSCALE:GREGORIAN
BEGIN:VEVENT
DTSTART;VALUE=DATE:20260901
SUMMARY:【先着特典】7inch vinyl box【生産限定アナログ盤】(内容未定)
DESCRIPTION:THEE MICHELLE GUN ELEPHANT 日本コロムビア(株)
UID:4549767372471@kyohatsu.lb-product.com
END:VEVENT
END:VCALENDAR
