BEGIN:VCALENDAR
VERSION:2.0
PRODID:-//kyohatsu//JP
CALSCALE:GREGORIAN
BEGIN:VEVENT
DTSTART;VALUE=DATE:20260527
SUMMARY:COULD YOU WALK ON THE WATER?
DESCRIPTION:THE ROLLING STONES Eternal Grooves
UID:4589767514495@kyohatsu.lb-product.com
END:VEVENT
END:VCALENDAR
