BEGIN:VCALENDAR
VERSION:2.0
PRODID:-//kyohatsu//JP
CALSCALE:GREGORIAN
BEGIN:VEVENT
DTSTART;VALUE=DATE:20260603
SUMMARY:【先着特典】ハローヘイボン(ジャケ写缶バッジ)
DESCRIPTION:THE KING OF ROOKIE EVOL RECORDS、MOONSHINE INC.
UID:4570040691491@kyohatsu.lb-product.com
END:VEVENT
END:VCALENDAR
