BEGIN:VCALENDAR
VERSION:2.0
PRODID:-//kyohatsu//JP
CALSCALE:GREGORIAN
BEGIN:VEVENT
DTSTART;VALUE=DATE:20260930
SUMMARY:【先着特典】ロブスター(A5サイズ・ジャケット絵柄クリアファイル)
DESCRIPTION:THE HIGH-LOWS ユニバーサルミュージック
UID:4988031859230@kyohatsu.lb-product.com
END:VEVENT
BEGIN:VEVENT
DTSTART;VALUE=DATE:20260930
SUMMARY:【先着特典】Tigermobile(A5サイズ・ジャケット絵柄クリアファイル)
DESCRIPTION:THE HIGH-LOWS ユニバーサルミュージック
UID:4988031859223@kyohatsu.lb-product.com
END:VEVENT
BEGIN:VEVENT
DTSTART;VALUE=DATE:20260930
SUMMARY:【先着特典】HOTEL TIKI-POTO(A5サイズ・ジャケット絵柄クリアファイル)
DESCRIPTION:THE HIGH-LOWS ユニバーサルミュージック
UID:4988031859261@kyohatsu.lb-product.com
END:VEVENT
BEGIN:VEVENT
DTSTART;VALUE=DATE:20260930
SUMMARY:【先着特典】Do!! The★MUSTANG【完全生産限定アナログ盤】(A5サイズ・ジャケット画像クリアファイル)
DESCRIPTION:THE HIGH-LOWS (株)ソニー・ミュージックレーベルズ
UID:4547366804232@kyohatsu.lb-product.com
END:VEVENT
BEGIN:VEVENT
DTSTART;VALUE=DATE:20260930
SUMMARY:【先着特典】flip flop【アナログ盤】(A5サイズ・ジャケット絵柄クリアファイル)
DESCRIPTION:THE HIGH-LOWS ユニバーサルミュージック
UID:4988031859254@kyohatsu.lb-product.com
END:VEVENT
BEGIN:VEVENT
DTSTART;VALUE=DATE:20260930
SUMMARY:【先着特典】Relaxin' WITH THE HIGH-LOWS【アナログ盤】(A5サイズ・ジャケット絵柄クリアファイル)
DESCRIPTION:THE HIGH-LOWS ユニバーサルミュージック
UID:4988031859209@kyohatsu.lb-product.com
END:VEVENT
BEGIN:VEVENT
DTSTART;VALUE=DATE:20260930
SUMMARY:【先着特典】バームクーヘン(A5サイズ・ジャケット絵柄クリアファイル)
DESCRIPTION:THE HIGH-LOWS ユニバーサルミュージック
UID:4988031859247@kyohatsu.lb-product.com
END:VEVENT
BEGIN:VEVENT
DTSTART;VALUE=DATE:20260930
SUMMARY:【先着特典】angel beetle(A5サイズ・ジャケット絵柄クリアファイル)
DESCRIPTION:THE HIGH-LOWS ユニバーサルミュージック
UID:4988031859285@kyohatsu.lb-product.com
END:VEVENT
BEGIN:VEVENT
DTSTART;VALUE=DATE:20260930
SUMMARY:【先着特典】THE HIGH-LOWS(A5サイズ・ジャケット絵柄クリアファイル)
DESCRIPTION:THE HIGH-LOWS ユニバーサルミュージック
UID:4988031859216@kyohatsu.lb-product.com
END:VEVENT
BEGIN:VEVENT
DTSTART;VALUE=DATE:20260930
SUMMARY:【先着特典】flip flop2【アナログ盤】(A5サイズ・ジャケット絵柄クリアファイル)
DESCRIPTION:THE HIGH-LOWS ユニバーサルミュージック
UID:4988031859278@kyohatsu.lb-product.com
END:VEVENT
END:VCALENDAR
