BEGIN:VCALENDAR
VERSION:2.0
PRODID:-//kyohatsu//JP
CALSCALE:GREGORIAN
BEGIN:VEVENT
DTSTART;VALUE=DATE:20260527
SUMMARY:BLACKPOOL NIGHT OUT 1964-'65
DESCRIPTION:THE BEATLES Eternal Grooves
UID:4589767513795@kyohatsu.lb-product.com
END:VEVENT
END:VCALENDAR
