BEGIN:VCALENDAR
VERSION:2.0
PRODID:-//kyohatsu//JP
CALSCALE:GREGORIAN
BEGIN:VEVENT
DTSTART;VALUE=DATE:20260527
SUMMARY:【楽天ブックス限定先着特典】MAGIC TIME【完全生産限定アナログ盤】(缶バッジ)
DESCRIPTION:T字路s (株)ソニー・ミュージックレーベルズ
UID:4547366803211@kyohatsu.lb-product.com
END:VEVENT
END:VCALENDAR
