BEGIN:VCALENDAR
VERSION:2.0
PRODID:-//kyohatsu//JP
CALSCALE:GREGORIAN
BEGIN:VEVENT
DTSTART;VALUE=DATE:20260624
SUMMARY:NARESOME SYNDICATE
DESCRIPTION:SperanzA 5pb.
UID:4948722599906@kyohatsu.lb-product.com
END:VEVENT
END:VCALENDAR
