BEGIN:VCALENDAR
VERSION:2.0
PRODID:-//kyohatsu//JP
CALSCALE:GREGORIAN
BEGIN:VEVENT
DTSTART;VALUE=DATE:20260529
SUMMARY:L'odeur du mepris
DESCRIPTION:Souille Wormholedeath Japan
UID:4562275585522@kyohatsu.lb-product.com
END:VEVENT
END:VCALENDAR
