BEGIN:VCALENDAR
VERSION:2.0
PRODID:-//kyohatsu//JP
CALSCALE:GREGORIAN
BEGIN:VEVENT
DTSTART;VALUE=DATE:20260501
SUMMARY:ルージュと金木犀と身の丈
DESCRIPTION:Sarima敏江 文芸社
UID:9784286272658@kyohatsu.lb-product.com
END:VEVENT
END:VCALENDAR
