BEGIN:VCALENDAR
VERSION:2.0
PRODID:-//kyohatsu//JP
CALSCALE:GREGORIAN
BEGIN:VEVENT
DTSTART;VALUE=DATE:20260715
SUMMARY:【楽天ブックス限定先着特典】Call Me Asap / NUMBER（初回生産限定「田中洸希」盤）(オリジナルA4クリアファイル（全9種のうちランダム1種）)
DESCRIPTION:SUPER★DRAGON (株)ポニーキャニオン
UID:4524135315687@kyohatsu.lb-product.com
END:VEVENT
BEGIN:VEVENT
DTSTART;VALUE=DATE:20260715
SUMMARY:【楽天ブックス限定先着特典】Call Me Asap / NUMBER（初回生産限定「古川毅」盤）(オリジナルA4クリアファイル（全9種のうちランダム1種）)
DESCRIPTION:SUPER★DRAGON (株)ポニーキャニオン
UID:4524135315649@kyohatsu.lb-product.com
END:VEVENT
BEGIN:VEVENT
DTSTART;VALUE=DATE:20260715
SUMMARY:【楽天ブックス限定先着特典】Call Me Asap / NUMBER（初回生産限定「ジャン海渡」盤）(オリジナルA4クリアファイル（全9種のうちランダム1種）)
DESCRIPTION:SUPER★DRAGON (株)ポニーキャニオン
UID:4524135315656@kyohatsu.lb-product.com
END:VEVENT
BEGIN:VEVENT
DTSTART;VALUE=DATE:20260715
SUMMARY:【楽天ブックス限定先着特典】Call Me Asap / NUMBER（通常盤B）(オリジナルA4クリアファイル（全9種のうちランダム1種）)
DESCRIPTION:SUPER★DRAGON (株)ポニーキャニオン
UID:4524135315625@kyohatsu.lb-product.com
END:VEVENT
BEGIN:VEVENT
DTSTART;VALUE=DATE:20260715
SUMMARY:【楽天ブックス限定先着特典】Call Me Asap / NUMBER（初回生産限定「柴崎楽」盤）(オリジナルA4クリアファイル（全9種のうちランダム1種）)
DESCRIPTION:SUPER★DRAGON (株)ポニーキャニオン
UID:4524135315717@kyohatsu.lb-product.com
END:VEVENT
BEGIN:VEVENT
DTSTART;VALUE=DATE:20260715
SUMMARY:【楽天ブックス限定先着特典】Call Me Asap / NUMBER（初回生産限定「池田彪馬」盤）(オリジナルA4クリアファイル（全9種のうちランダム1種）)
DESCRIPTION:SUPER★DRAGON (株)ポニーキャニオン
UID:4524135315694@kyohatsu.lb-product.com
END:VEVENT
BEGIN:VEVENT
DTSTART;VALUE=DATE:20260715
SUMMARY:【楽天ブックス限定先着特典】Call Me Asap / NUMBER（通常盤A）(オリジナルA4クリアファイル（全9種のうちランダム1種）)
DESCRIPTION:SUPER★DRAGON (株)ポニーキャニオン
UID:4524135315618@kyohatsu.lb-product.com
END:VEVENT
BEGIN:VEVENT
DTSTART;VALUE=DATE:20260715
SUMMARY:【楽天ブックス限定先着特典】Call Me Asap / NUMBER（初回生産限定「松村和哉」盤）(オリジナルA4クリアファイル（全9種のうちランダム1種）)
DESCRIPTION:SUPER★DRAGON (株)ポニーキャニオン
UID:4524135315700@kyohatsu.lb-product.com
END:VEVENT
BEGIN:VEVENT
DTSTART;VALUE=DATE:20260715
SUMMARY:【楽天ブックス限定先着特典】Call Me Asap / NUMBER（初回生産限定「志村玲於」盤）(オリジナルA4クリアファイル（全9種のうちランダム1種）)
DESCRIPTION:SUPER★DRAGON (株)ポニーキャニオン
UID:4524135315632@kyohatsu.lb-product.com
END:VEVENT
BEGIN:VEVENT
DTSTART;VALUE=DATE:20260715
SUMMARY:【楽天ブックス限定先着特典】Call Me Asap / NUMBER（初回生産限定「飯島颯」盤）(オリジナルA4クリアファイル（全9種のうちランダム1種）)
DESCRIPTION:SUPER★DRAGON (株)ポニーキャニオン
UID:4524135315663@kyohatsu.lb-product.com
END:VEVENT
BEGIN:VEVENT
DTSTART;VALUE=DATE:20260715
SUMMARY:【楽天ブックス限定先着特典】Call Me Asap / NUMBER（初回生産限定「伊藤壮吾」盤）(オリジナルA4クリアファイル（全9種のうちランダム1種）)
DESCRIPTION:SUPER★DRAGON (株)ポニーキャニオン
UID:4524135315670@kyohatsu.lb-product.com
END:VEVENT
END:VCALENDAR
