BEGIN:VCALENDAR
VERSION:2.0
PRODID:-//kyohatsu//JP
CALSCALE:GREGORIAN
BEGIN:VEVENT
DTSTART;VALUE=DATE:20260527
SUMMARY:咲き誇る時を待つのは
DESCRIPTION:SUPER JUNIOR-YESUNG SM ENTERTAINMENT JAPAN
UID:4580831118014@kyohatsu.lb-product.com
END:VEVENT
BEGIN:VEVENT
DTSTART;VALUE=DATE:20260527
SUMMARY:咲き誇る時を待つのは
DESCRIPTION:SUPER JUNIOR-YESUNG SM ENTERTAINMENT JAPAN
UID:4580831000906@kyohatsu.lb-product.com
END:VEVENT
BEGIN:VEVENT
DTSTART;VALUE=DATE:20260527
SUMMARY:咲き誇る時を待つのは
DESCRIPTION:SUPER JUNIOR-YESUNG SM ENTERTAINMENT JAPAN
UID:4580831060405@kyohatsu.lb-product.com
END:VEVENT
BEGIN:VEVENT
DTSTART;VALUE=DATE:20260527
SUMMARY:咲き誇る時を待つのは
DESCRIPTION:SUPER JUNIOR-YESUNG SM ENTERTAINMENT JAPAN
UID:4580830912033@kyohatsu.lb-product.com
END:VEVENT
BEGIN:VEVENT
DTSTART;VALUE=DATE:20260527
SUMMARY:咲き誇る時を待つのは
DESCRIPTION:SUPER JUNIOR-YESUNG SM ENTERTAINMENT JAPAN
UID:4580831062188@kyohatsu.lb-product.com
END:VEVENT
END:VCALENDAR
