BEGIN:VCALENDAR
VERSION:2.0
PRODID:-//kyohatsu//JP
CALSCALE:GREGORIAN
BEGIN:VEVENT
DTSTART;VALUE=DATE:20260610
SUMMARY:氷艶 hyoen 2025 -鏡紋の夜叉ー(オリジナル・サウンドトラック)
DESCRIPTION:SUGIZO ユニバーサルミュージック
UID:4988031870228@kyohatsu.lb-product.com
END:VEVENT
END:VCALENDAR
