BEGIN:VCALENDAR
VERSION:2.0
PRODID:-//kyohatsu//JP
CALSCALE:GREGORIAN
BEGIN:VEVENT
DTSTART;VALUE=DATE:20260612
SUMMARY:【輸入盤】アンティル・ザ・サン・エクスプローズ
DESCRIPTION:SUBLIME 
UID:0075678592157@kyohatsu.lb-product.com
END:VEVENT
END:VCALENDAR
