BEGIN:VCALENDAR
VERSION:2.0
PRODID:-//kyohatsu//JP
CALSCALE:GREGORIAN
BEGIN:VEVENT
DTSTART;VALUE=DATE:20260612
SUMMARY:【輸入盤】ノクターンズ・オブ・イズウィルム
DESCRIPTION:STORMKEEP 
UID:4255939800221@kyohatsu.lb-product.com
END:VEVENT
BEGIN:VEVENT
DTSTART;VALUE=DATE:20260612
SUMMARY:【輸入盤】ノクターンズ・オブ・イズウィルム（マーブルド）（アナログ盤）
DESCRIPTION:STORMKEEP 
UID:4255939800283@kyohatsu.lb-product.com
END:VEVENT
END:VCALENDAR
