BEGIN:VCALENDAR
VERSION:2.0
PRODID:-//kyohatsu//JP
CALSCALE:GREGORIAN
BEGIN:VEVENT
DTSTART;VALUE=DATE:20260624
SUMMARY:【楽天ブックス限定先着特典】Special Album『About Love』Japan Edition (初回限定盤)(トレーディングカード（ソロ6種よりランダム1種）)
DESCRIPTION:SF9 (株)ワーナーミュージック・ジャパン
UID:4943674454174@kyohatsu.lb-product.com
END:VEVENT
BEGIN:VEVENT
DTSTART;VALUE=DATE:20260624
SUMMARY:【楽天ブックス限定先着特典】Special Album『About Love』Japan Edition(トレーディングカード（ソロ6種よりランダム1種）)
DESCRIPTION:SF9 (株)ワーナーミュージック・ジャパン
UID:4943674454181@kyohatsu.lb-product.com
END:VEVENT
END:VCALENDAR
