BEGIN:VCALENDAR
VERSION:2.0
PRODID:-//kyohatsu//JP
CALSCALE:GREGORIAN
BEGIN:VEVENT
DTSTART;VALUE=DATE:20260718
SUMMARY:SUNLIGHT【完全生産限定アナログ盤】
DESCRIPTION:SATELLITE LOVERS (株)ソニー・ミュージックダイレクト
UID:4547366791396@kyohatsu.lb-product.com
END:VEVENT
END:VCALENDAR
