BEGIN:VCALENDAR
VERSION:2.0
PRODID:-//kyohatsu//JP
CALSCALE:GREGORIAN
BEGIN:VEVENT
DTSTART;VALUE=DATE:20260701
SUMMARY:Seasons of Love
DESCRIPTION:Riddim Saunter Niw! Records
UID:4988044136946@kyohatsu.lb-product.com
END:VEVENT
BEGIN:VEVENT
DTSTART;VALUE=DATE:20260701
SUMMARY:Seasons of Love【カセット】
DESCRIPTION:Riddim Saunter Niw! Records
UID:4988044138162@kyohatsu.lb-product.com
END:VEVENT
BEGIN:VEVENT
DTSTART;VALUE=DATE:20260902
SUMMARY:Seasons of Love【アナログ盤】
DESCRIPTION:Riddim Saunter Niw! Records
UID:4988044137745@kyohatsu.lb-product.com
END:VEVENT
BEGIN:VEVENT
DTSTART;VALUE=DATE:20260902
SUMMARY:Days Lead【カセット】
DESCRIPTION:Riddim Saunter Niw! Records
UID:4988044138179@kyohatsu.lb-product.com
END:VEVENT
END:VCALENDAR
