BEGIN:VCALENDAR
VERSION:2.0
PRODID:-//kyohatsu//JP
CALSCALE:GREGORIAN
BEGIN:VEVENT
DTSTART;VALUE=DATE:20260624
SUMMARY:TIME【Blu-ray】
DESCRIPTION:RYUICHI SAKAMOTO + SHIRO TAKATANI エイベックス・ミュージック・クリエイティヴ(株)
UID:4988064676057@kyohatsu.lb-product.com
END:VEVENT
END:VCALENDAR
