BEGIN:VCALENDAR
VERSION:2.0
PRODID:-//kyohatsu//JP
CALSCALE:GREGORIAN
BEGIN:VEVENT
DTSTART;VALUE=DATE:20260624
SUMMARY:INHUMAN EMOTIONS
DESCRIPTION:ROSEROSE B.T.H. RECORDS
UID:4988044137998@kyohatsu.lb-product.com
END:VEVENT
END:VCALENDAR
