BEGIN:VCALENDAR
VERSION:2.0
PRODID:-//kyohatsu//JP
CALSCALE:GREGORIAN
BEGIN:VEVENT
DTSTART;VALUE=DATE:20260610
SUMMARY:Major Debut Mini Album「CLASSIC WAVE」 (初回限定盤B CD＋Blu-ray)
DESCRIPTION:ROIROM ビクターエンタテインメント
UID:4988002954230@kyohatsu.lb-product.com
END:VEVENT
BEGIN:VEVENT
DTSTART;VALUE=DATE:20260610
SUMMARY:【楽天ブックス限定先着特典+早期予約特典】Major Debut Mini Album「CLASSIC WAVE」 (通常盤)(オリジナル・A4クリアファイル（3種ランダム1枚）+ROIROMオリジナル・ロゴステッカー(金・銀2種ランダム1枚)+ROIROMオリジナル・4カットステッカー)
DESCRIPTION:ROIROM ビクターエンタテインメント
UID:2100014947341@kyohatsu.lb-product.com
END:VEVENT
BEGIN:VEVENT
DTSTART;VALUE=DATE:20260610
SUMMARY:【楽天ブックス限定先着特典+同時購入特典+他】Major Debut Mini Album「CLASSIC WAVE」 (初回盤A＋初回盤B＋通常盤セット)(オリジナル・A4クリアファイル（3種ランダム3枚）+クリアチケットホルダー+ロゴステッカー(2種ランダム3枚)+他)
DESCRIPTION:ROIROM ビクターエンタテインメント
UID:2100014947402@kyohatsu.lb-product.com
END:VEVENT
BEGIN:VEVENT
DTSTART;VALUE=DATE:20260610
SUMMARY:【楽天ブックス限定先着特典+早期予約特典】Major Debut Mini Album「CLASSIC WAVE」 (初回限定盤B CD＋Blu-ray)(オリジナル・A4クリアファイル（3種ランダム1枚）+ROIROMオリジナル・ロゴステッカー(金・銀2種ランダム1枚)+ROIROMオリジナル・4カットステッカー)
DESCRIPTION:ROIROM ビクターエンタテインメント
UID:2100014947334@kyohatsu.lb-product.com
END:VEVENT
BEGIN:VEVENT
DTSTART;VALUE=DATE:20260610
SUMMARY:【楽天ブックス限定先着特典+早期予約特典】Major Debut Mini Album「CLASSIC WAVE」 (初回限定盤A CD＋Photobook)(オリジナル・A4クリアファイル（3種ランダム1枚）+ROIROMオリジナル・ロゴステッカー(金・銀2種ランダム1枚)+ROIROMオリジナル・4カットステッカー)
DESCRIPTION:ROIROM ビクターエンタテインメント
UID:2100014947327@kyohatsu.lb-product.com
END:VEVENT
BEGIN:VEVENT
DTSTART;VALUE=DATE:20260610
SUMMARY:【楽天ブックス限定先着特典+早期予約特典】Major Debut Mini Album「CLASSIC WAVE」 (初回限定盤B CD＋Blu-ray)(オリジナル・A4クリアファイル（3種ランダム1枚）+ROIROMオリジナル・4カットステッカー)
DESCRIPTION:ROIROM ビクターエンタテインメント
UID:2100014947389@kyohatsu.lb-product.com
END:VEVENT
BEGIN:VEVENT
DTSTART;VALUE=DATE:20260610
SUMMARY:【楽天ブックス限定先着特典+早期予約特典】Major Debut Mini Album「CLASSIC WAVE」 (初回限定盤A CD＋Photobook)(オリジナル・A4クリアファイル（3種ランダム1枚）+ROIROMオリジナル・4カットステッカー)
DESCRIPTION:ROIROM ビクターエンタテインメント
UID:2100014947372@kyohatsu.lb-product.com
END:VEVENT
BEGIN:VEVENT
DTSTART;VALUE=DATE:20260610
SUMMARY:【楽天ブックス限定先着特典+早期予約特典】Major Debut Mini Album「CLASSIC WAVE」 (通常盤)(オリジナル・A4クリアファイル（3種ランダム1枚）+ROIROMオリジナル・4カットステッカー)
DESCRIPTION:ROIROM ビクターエンタテインメント
UID:2100014947396@kyohatsu.lb-product.com
END:VEVENT
BEGIN:VEVENT
DTSTART;VALUE=DATE:20260610
SUMMARY:【楽天ブックス限定先着特典+同時購入特典+他】Major Debut Mini Album「CLASSIC WAVE」 (初回盤A＋初回盤B＋通常盤セット)(オリジナル・A4クリアファイル（3種ランダム3枚）+ROIROMオリジナル・クリアチケットホルダー+ROIROMオリジナル・4カットステッカーx3)
DESCRIPTION:ROIROM ビクターエンタテインメント
UID:2100014947365@kyohatsu.lb-product.com
END:VEVENT
END:VCALENDAR
