BEGIN:VCALENDAR
VERSION:2.0
PRODID:-//kyohatsu//JP
CALSCALE:GREGORIAN
BEGIN:VEVENT
DTSTART;VALUE=DATE:20260624
SUMMARY:【楽天ブックス限定先着特典】リトルワールド (完全生産限定盤)(オリジナルポストカード（楽天ver.）)
DESCRIPTION:PompadollS (株)ソニー・ミュージックレーベルズ
UID:4547366819823@kyohatsu.lb-product.com
END:VEVENT
END:VCALENDAR
