BEGIN:VCALENDAR
VERSION:2.0
PRODID:-//kyohatsu//JP
CALSCALE:GREGORIAN
BEGIN:VEVENT
DTSTART;VALUE=DATE:20260624
SUMMARY:Oslo 1973
DESCRIPTION:Paul Bley & Arild Andersen Nadja 21
UID:4988044137738@kyohatsu.lb-product.com
END:VEVENT
END:VCALENDAR
