BEGIN:VCALENDAR
VERSION:2.0
PRODID:-//kyohatsu//JP
CALSCALE:GREGORIAN
BEGIN:VEVENT
DTSTART;VALUE=DATE:20260603
SUMMARY:DIAMONDS STORY -tvk Premium Box-(完全生産限定盤)【Blu-ray】
DESCRIPTION:PRINCESS PRINCESS (株)ソニー・ミュージックレーベルズ
UID:4547366816266@kyohatsu.lb-product.com
END:VEVENT
END:VCALENDAR
