BEGIN:VCALENDAR
VERSION:2.0
PRODID:-//kyohatsu//JP
CALSCALE:GREGORIAN
BEGIN:VEVENT
DTSTART;VALUE=DATE:20260605
SUMMARY:【輸入盤】8・トラックス
DESCRIPTION:PINK FLOYD 
UID:0199584399522@kyohatsu.lb-product.com
END:VEVENT
END:VCALENDAR
