BEGIN:VCALENDAR
VERSION:2.0
PRODID:-//kyohatsu//JP
CALSCALE:GREGORIAN
BEGIN:VEVENT
DTSTART;VALUE=DATE:20260701
SUMMARY:GOLDEN☆BEST PEARL-early days-
DESCRIPTION:PEARL (株)ソニー・ミュージックダイレクト
UID:4547366820096@kyohatsu.lb-product.com
END:VEVENT
END:VCALENDAR
