BEGIN:VCALENDAR
VERSION:2.0
PRODID:-//kyohatsu//JP
CALSCALE:GREGORIAN
BEGIN:VEVENT
DTSTART;VALUE=DATE:20260522
SUMMARY:【輸入盤】パディントン：ザ・ミュージカル・オリジナル・キャスト・レコーディング
DESCRIPTION:PADDINGTON THE MUSICAL 
UID:0602488378246@kyohatsu.lb-product.com
END:VEVENT
BEGIN:VEVENT
DTSTART;VALUE=DATE:20260522
SUMMARY:【輸入盤】パディントン：ザ・ミュージカル・オリジナル・キャスト・レコーディング（アナログ盤）
DESCRIPTION:PADDINGTON THE MUSICAL 
UID:0602488378291@kyohatsu.lb-product.com
END:VEVENT
END:VCALENDAR
