BEGIN:VCALENDAR
VERSION:2.0
PRODID:-//kyohatsu//JP
CALSCALE:GREGORIAN
BEGIN:VEVENT
DTSTART;VALUE=DATE:20260609
SUMMARY:Onephony 3rd Anniversary Tour『Fanfare』at Toyosu PIT
DESCRIPTION:Onephony (株)フィアレス
UID:4595985457209@kyohatsu.lb-product.com
END:VEVENT
END:VCALENDAR
