BEGIN:VCALENDAR
VERSION:2.0
PRODID:-//kyohatsu//JP
CALSCALE:GREGORIAN
BEGIN:VEVENT
DTSTART;VALUE=DATE:20260707
SUMMARY:戦姫サバイバルサガ （5） -異世界の運命をかけた無人島フジュン異性交遊ー
DESCRIPTION:OTOSAMA KADOKAWA
UID:9784048119894@kyohatsu.lb-product.com
END:VEVENT
END:VCALENDAR
