BEGIN:VCALENDAR
VERSION:2.0
PRODID:-//kyohatsu//JP
CALSCALE:GREGORIAN
BEGIN:VEVENT
DTSTART;VALUE=DATE:20260612
SUMMARY:【輸入盤】ユー・シーム・プリティ・サッド・フォー・ア・ガール・ソー・イン・ラヴ
DESCRIPTION:OLIVIA RODRIGO 
UID:0199957737678@kyohatsu.lb-product.com
END:VEVENT
BEGIN:VEVENT
DTSTART;VALUE=DATE:20260612
SUMMARY:【輸入盤】ユー・シーム・プリティ・サッド・フォー・ア・ガール・ソー・イン・ラヴ（スパーク・イン・ザ・ダーク・ブラック）（アナログ盤）
DESCRIPTION:OLIVIA RODRIGO 
UID:0199957611336@kyohatsu.lb-product.com
END:VEVENT
END:VCALENDAR
