BEGIN:VCALENDAR
VERSION:2.0
PRODID:-//kyohatsu//JP
CALSCALE:GREGORIAN
BEGIN:VEVENT
DTSTART;VALUE=DATE:20260708
SUMMARY:ダントツで愛して/タイトル未定(曲順未定) (通常盤B)
DESCRIPTION:OCHA NORMA (株)アップフロントワークス
UID:4942463525859@kyohatsu.lb-product.com
END:VEVENT
BEGIN:VEVENT
DTSTART;VALUE=DATE:20260708
SUMMARY:ダントツで愛して/タイトル未定(曲順未定) (通常盤A)
DESCRIPTION:OCHA NORMA (株)アップフロントワークス
UID:4942463525750@kyohatsu.lb-product.com
END:VEVENT
BEGIN:VEVENT
DTSTART;VALUE=DATE:20260708
SUMMARY:ダントツで愛して/タイトル未定(曲順未定) (初回生産限定盤SP CD＋Blu-ray)
DESCRIPTION:OCHA NORMA (株)アップフロントワークス
UID:4942463525552@kyohatsu.lb-product.com
END:VEVENT
BEGIN:VEVENT
DTSTART;VALUE=DATE:20260708
SUMMARY:ダントツで愛して/タイトル未定(曲順未定) (初回生産限定盤B CD＋Blu-ray)
DESCRIPTION:OCHA NORMA (株)アップフロントワークス
UID:4942463525354@kyohatsu.lb-product.com
END:VEVENT
BEGIN:VEVENT
DTSTART;VALUE=DATE:20260708
SUMMARY:ダントツで愛して/タイトル未定(曲順未定) (初回生産限定盤A CD＋Blu-ray)
DESCRIPTION:OCHA NORMA (株)アップフロントワークス
UID:4942463525156@kyohatsu.lb-product.com
END:VEVENT
END:VCALENDAR
