BEGIN:VCALENDAR
VERSION:2.0
PRODID:-//kyohatsu//JP
CALSCALE:GREGORIAN
BEGIN:VEVENT
DTSTART;VALUE=DATE:20260609
SUMMARY:それがメイドのカンナです（5）
DESCRIPTION:Noise 講談社
UID:9784065438619@kyohatsu.lb-product.com
END:VEVENT
END:VCALENDAR
