BEGIN:VCALENDAR
VERSION:2.0
PRODID:-//kyohatsu//JP
CALSCALE:GREGORIAN
BEGIN:VEVENT
DTSTART;VALUE=DATE:20260525
SUMMARY:You can't fix stupid
DESCRIPTION:NOT SO HARD WORK (有)イレブンサーティエイト
UID:4997184220651@kyohatsu.lb-product.com
END:VEVENT
END:VCALENDAR
