BEGIN:VCALENDAR
VERSION:2.0
PRODID:-//kyohatsu//JP
CALSCALE:GREGORIAN
BEGIN:VEVENT
DTSTART;VALUE=DATE:20260527
SUMMARY:【楽天ブックス限定先着特典】タイトル未定 (通常盤 Type-A CD＋Blu-ray)(生写真＜Type-A：坂田心咲1＞)
DESCRIPTION:NMB48 ユニバーサルミュージック
UID:2100014947150@kyohatsu.lb-product.com
END:VEVENT
BEGIN:VEVENT
DTSTART;VALUE=DATE:20260527
SUMMARY:【楽天ブックス限定先着特典】タイトル未定 (通常盤 Type-B CD＋Blu-ray)(生写真＜Type-B：石山千尋1＞)
DESCRIPTION:NMB48 ユニバーサルミュージック
UID:2100014947167@kyohatsu.lb-product.com
END:VEVENT
BEGIN:VEVENT
DTSTART;VALUE=DATE:20260527
SUMMARY:タイトル未定 (通常盤 Type-A CD＋Blu-ray)
DESCRIPTION:NMB48 ユニバーサルミュージック
UID:4988031866696@kyohatsu.lb-product.com
END:VEVENT
BEGIN:VEVENT
DTSTART;VALUE=DATE:20260527
SUMMARY:タイトル未定 (通常盤 Type-B CD＋Blu-ray)
DESCRIPTION:NMB48 ユニバーサルミュージック
UID:4988031866702@kyohatsu.lb-product.com
END:VEVENT
BEGIN:VEVENT
DTSTART;VALUE=DATE:20260527
SUMMARY:【楽天ブックス限定先着特典】タイトル未定 (通常盤 Type-C CD＋Blu-ray)(生写真＜Type-C：三鴨くるみ2＞)
DESCRIPTION:NMB48 ユニバーサルミュージック
UID:2100014947174@kyohatsu.lb-product.com
END:VEVENT
BEGIN:VEVENT
DTSTART;VALUE=DATE:20260527
SUMMARY:タイトル未定 (通常盤 Type-C CD＋Blu-ray)
DESCRIPTION:NMB48 ユニバーサルミュージック
UID:4988031866719@kyohatsu.lb-product.com
END:VEVENT
END:VCALENDAR
