BEGIN:VCALENDAR
VERSION:2.0
PRODID:-//kyohatsu//JP
CALSCALE:GREGORIAN
BEGIN:VEVENT
DTSTART;VALUE=DATE:20260529
SUMMARY:ボーイズイラストブック ENNUI
DESCRIPTION:NLLE 一迅社
UID:9784758098731@kyohatsu.lb-product.com
END:VEVENT
END:VCALENDAR
