BEGIN:VCALENDAR
VERSION:2.0
PRODID:-//kyohatsu//JP
CALSCALE:GREGORIAN
BEGIN:VEVENT
DTSTART;VALUE=DATE:20260728
SUMMARY:タイトル未定
DESCRIPTION:NEWPOEM (株)ロックフィールド
UID:4562350610286@kyohatsu.lb-product.com
END:VEVENT
END:VCALENDAR
