BEGIN:VCALENDAR
VERSION:2.0
PRODID:-//kyohatsu//JP
CALSCALE:GREGORIAN
BEGIN:VEVENT
DTSTART;VALUE=DATE:20260529
SUMMARY:【輸入盤】ライト・イヤーズ（マーベル・ヴァリアント・ヴァイナル）（アナログ盤）
DESCRIPTION:NAS 
UID:0199806972656@kyohatsu.lb-product.com
END:VEVENT
END:VCALENDAR
