BEGIN:VCALENDAR
VERSION:2.0
PRODID:-//kyohatsu//JP
CALSCALE:GREGORIAN
BEGIN:VEVENT
DTSTART;VALUE=DATE:20260527
SUMMARY:【楽天ブックス限定先着特典】MyGO!!!!!×Ave Mujica 合同ライブ「わかれ道の、その先へ」上海追加公演Blu-ray(完全生産限定版(BD+オルゴールアレンジCD+特製アイテム))【Blu-ray】(A5キャラファイングラフ+アクリルコースター2種セット+L判ブロマイド10種セット)
DESCRIPTION:MyGO!!!!!、Ave Mujica、CRYCHIC、sumimi (株)ブシロードミュージック
UID:4562494359997@kyohatsu.lb-product.com
END:VEVENT
END:VCALENDAR
