BEGIN:VCALENDAR
VERSION:2.0
PRODID:-//kyohatsu//JP
CALSCALE:GREGORIAN
BEGIN:VEVENT
DTSTART;VALUE=DATE:20260715
SUMMARY:致並跡【数量限定生産特装盤 CD＋Blu-ray＋グッズ】
DESCRIPTION:MyGO!!!!! (株)ブシロードミュージック
UID:4589773690213@kyohatsu.lb-product.com
END:VEVENT
BEGIN:VEVENT
DTSTART;VALUE=DATE:20260715
SUMMARY:【楽天ブックス限定先着特典+先着特典】致並跡【数量限定生産特装盤 CD＋Blu-ray＋グッズ】(マルチケース W70×H115mm(特装盤 ver.)+MyGO!!!!! 3rd Album「致並跡」特典 CD そよ ver)
DESCRIPTION:MyGO!!!!! (株)ブシロードミュージック
UID:2100014909462@kyohatsu.lb-product.com
END:VEVENT
BEGIN:VEVENT
DTSTART;VALUE=DATE:20260715
SUMMARY:【楽天ブックス限定先着特典+先着特典】致並跡【通常盤】(アクリルキーホルダー(5cm/通常盤ver.)+MyGO!!!!! 3rd Album「致並跡」特典 CD そよ ver)
DESCRIPTION:MyGO!!!!! (株)ブシロードミュージック
UID:4589773690237@kyohatsu.lb-product.com
END:VEVENT
BEGIN:VEVENT
DTSTART;VALUE=DATE:20260715
SUMMARY:【楽天ブックス限定先着特典+先着特典】致並跡【Blu-ray付生産限定盤】(マルチケース W70×H115mm(限定盤 ver.)+MyGO!!!!! 3rd Album「致並跡」特典 CD そよ ver)
DESCRIPTION:MyGO!!!!! (株)ブシロードミュージック
UID:2100014909479@kyohatsu.lb-product.com
END:VEVENT
BEGIN:VEVENT
DTSTART;VALUE=DATE:20260715
SUMMARY:致並跡【Blu-ray付生産限定盤】
DESCRIPTION:MyGO!!!!! (株)ブシロードミュージック
UID:4589773690220@kyohatsu.lb-product.com
END:VEVENT
END:VCALENDAR
