BEGIN:VCALENDAR
VERSION:2.0
PRODID:-//kyohatsu//JP
CALSCALE:GREGORIAN
BEGIN:VEVENT
DTSTART;VALUE=DATE:20260520
SUMMARY:友だち追加
DESCRIPTION:Mr.X 双葉社
UID:9784575248944@kyohatsu.lb-product.com
END:VEVENT
END:VCALENDAR
